{"text_format":"3","workbook":"xlsx","n_sheets":2,"sheets":["용역검사원","완료계"],"not_rendered":{"defined_names":2},"read":"whole","date_system":"1900"}

{"sheet":"용역검사원","index":0,"n_rows":25,"n_cols":17,"rows_kept":25,"merged":[[1,0,1,9],[1,11,1,16],[2,11,2,16],[4,0,4,1],[4,2,4,9],[5,0,5,1],[5,2,5,4],[5,5,5,10],[6,0,6,1],[6,2,6,6],[7,0,7,1],[7,2,7,6],[8,0,8,1],[8,2,8,6],[9,0,9,1],[9,2,9,6],[11,0,11,9],[12,0,12,9],[13,0,13,9],[16,2,16,7],[18,1,18,9],[19,1,19,6],[20,1,20,5],[21,1,21,2],[24,0,24,9]]}
["[ 별첨 12 ]"]
["용 역 검 사 원",{"$nulls":10},{"$f":"C6","v":{"v":0,"d":"₩0"}}]
[{"$nulls":11},{"$f":"(\"일금\"&#REF!&#REF!&Q4&Q5&Q6&Q7&Q8&Q9&Q10&Q11&Q12&Q13&Q14&\"원\")","v":{"$error":"#REF!"}}]
[{"$nulls":11},"백억",{"$f":"IF(L$2<10000000000,\"\",MID((RIGHT(L$2,11)),1,1))","v":""},{"$f":"IF(M4=\"1\",\"일백\",IF(M4=\"2\",\"이백\",IF(M4=\"3\",\"삼백\",IF(M4=\"4\",\"사백\",IF(M4=\"5\",\"오백\",\"\")))))","v":""},{"$f":"IF(M4=\"6\",\"육백\",IF(M4=\"7\",\"칠백\",IF(M4=\"8\",\"팔백\",IF(M4=\"9\",\"구백\",\"\"))))","v":""},{"$f":"IF(AND(NOT(M4=\"0\"),M5=\"0\",M6=\"0\"),\"억\",\"\")","v":""},{"$f":"(N4&O4&P4)","v":""}]
["1. 계   약   명 : ",{"$nulls":10},"십억",{"$f":"IF(L$2<1000000000,\"\",MID((RIGHT(L$2,10)),1,1))","v":""},{"$f":"IF(M5=\"1\",\"일십\",IF(M5=\"2\",\"이십\",IF(M5=\"3\",\"삼십\",IF(M5=\"4\",\"사십\",IF(M5=\"5\",\"오십\",\"\")))))","v":""},{"$f":"IF(M5=\"6\",\"육십\",IF(M5=\"7\",\"칠십\",IF(M5=\"8\",\"팔십\",IF(M5=\"9\",\"구십\",\"\"))))","v":""},{"$f":"IF(AND(NOT(M5=\"0\"),M6=\"0\"),\"억\",\"\")","v":""},""]
["2. 계 약 금 액 : ",null,0,null,null,{"$f":"\"(금\"&NUMBERSTRING(C6,1)&\"원)\"","v":"(금영원)"},{"$nulls":5},"억",{"$f":"IF(L$2<100000000,\"\",MID((RIGHT(L$2,9)),1,1))","v":""},{"$f":"IF(M6=\"1\",\"일억\",IF(M6=\"2\",\"이억\",IF(M6=\"3\",\"삼억\",IF(M6=\"4\",\"사억\",IF(M6=\"5\",\"오억\",\"\")))))","v":""},{"$f":"IF(M6=\"6\",\"육억\",IF(M6=\"7\",\"칠억\",IF(M6=\"8\",\"팔억\",IF(M6=\"9\",\"구억\",\"\"))))","v":""},null,""]
["3. 계 약 일 자 :",null,{"$f":"완료계!C6","v":"   년    월    일"},{"$nulls":8},"천만",{"$f":"IF(L$2<10000000,\"\",MID((RIGHT(L$2,8)),1,1))","v":""},{"$f":"IF(M7=\"1\",\"일천\",IF(M7=\"2\",\"이천\",IF(M7=\"3\",\"삼천\",IF(M7=\"4\",\"사천\",IF(M7=\"5\",\"오천\",\"\")))))","v":""},{"$f":"IF(M7=\"6\",\"육천\",IF(M7=\"7\",\"칠천\",IF(M7=\"8\",\"팔천\",IF(M7=\"9\",\"구천\",\"\"))))","v":""},{"$f":"IF(AND(NOT(M7=\"0\"),M8=\"0\",M9=\"0\",M10=\"0\"),\"만\",\"\")","v":""},""]
["4. 착 수 일 자 : ",null,{"$f":"완료계!C7","v":"   년    월    일"},{"$nulls":8},"백만",{"$f":"IF(L2<1000000,\"\",MID((RIGHT(L2,7)),1,1))","v":""},{"$f":"IF(M8=\"1\",\"일백\",IF(M8=\"2\",\"이백\",IF(M8=\"3\",\"삼백\",IF(M8=\"4\",\"사백\",IF(M8=\"5\",\"오백\",\"\")))))","v":""},{"$f":"IF(M8=\"6\",\"육백\",IF(M8=\"7\",\"칠백\",IF(M8=\"8\",\"팔백\",IF(M8=\"9\",\"구백\",\"\"))))","v":""},{"$f":"IF(AND(NOT(M8=\"0\"),M9=\"0\",M10=\"0\"),\"만\",\"\")","v":""},""]
["5. 완료예정일 :",null,{"$f":"완료계!C8","v":"   년    월    일"},{"$nulls":8},"십만",{"$f":"IF(L2<100000,\"\",MID((RIGHT(L2,6)),1,1))","v":""},{"$f":"IF(M9=\"1\",\"일십\",IF(M9=\"2\",\"이십\",IF(M9=\"3\",\"삼십\",IF(M9=\"4\",\"사십\",IF(M9=\"5\",\"오십\",\"\")))))","v":""},{"$f":"IF(M9=\"6\",\"육십\",IF(M9=\"7\",\"칠십\",IF(M9=\"8\",\"팔십\",IF(M9=\"9\",\"구십\",\"\"))))","v":""},{"$f":"IF(AND(NOT(M9=\"0\"),M10=\"0\"),\"만\",\"\")","v":""},""]
["6. 완 료 일 자 :",null,"   년    월    일",{"$nulls":8},"만",{"$f":"IF(L2<10000,\"\",MID((RIGHT(L2,5)),1,1))","v":""},{"$f":"IF(M10=\"1\",\"일만\",IF(M10=\"2\",\"이만\",IF(M10=\"3\",\"삼만\",IF(M10=\"4\",\"사만\",IF(M10=\"5\",\"오만\",\"\")))))","v":""},{"$f":"IF(M10=\"6\",\"육만\",IF(M10=\"7\",\"칠만\",IF(M10=\"8\",\"팔만\",IF(M10=\"9\",\"구만\",\"\"))))","v":""},null,""]
[{"$nulls":11},"천",{"$f":"IF(L2<1000,\"\",MID((RIGHT(L2,4)),1,1))","v":""},{"$f":"IF(M11=\"1\",\"일천\",IF(M11=\"2\",\"이천\",IF(M11=\"3\",\"삼천\",IF(M11=\"4\",\"사천\",IF(M11=\"5\",\"오천\",\"\")))))","v":""},{"$f":"IF(M11=\"6\",\"육천\",IF(M11=\"7\",\"칠천\",IF(M11=\"8\",\"팔천\",IF(M11=\"9\",\"구천\",\"\"))))","v":""},null,""]
["     위 수선(용역)의 도급시행에 있어서 수선(용역) 전반에 걸쳐 설계도서와 제시방서, 품질",{"$nulls":10},"백",{"$f":"IF(L2<100,\"\",MID((RIGHT(L2,3)),1,1))","v":""},{"$f":"IF(M12=\"1\",\"일백\",IF(M12=\"2\",\"이백\",IF(M12=\"3\",\"삼백\",IF(M12=\"4\",\"사백\",IF(M12=\"5\",\"오백\",\"\")))))","v":""},{"$f":"IF(M12=\"6\",\"육백\",IF(M12=\"7\",\"칠백\",IF(M12=\"8\",\"팔백\",IF(M12=\"9\",\"구백\",\"\"))))","v":""},null,""]
["관리 기준   및  기타 예정대로 어김없이 완료  하였음을 확인 하며, 만약  수선(용역)의  ",{"$nulls":10},"십",{"$f":"IF(L2<10,\"\",MID((RIGHT(L2,2)),1,1))","v":""},{"$f":"IF(M13=\"1\",\"일십\",IF(M13=\"2\",\"이십\",IF(M13=\"3\",\"삼십\",IF(M13=\"4\",\"사십\",IF(M13=\"5\",\"오십\",\"\")))))","v":""},{"$f":"IF(M13=\"6\",\"육십\",IF(M13=\"7\",\"칠십\",IF(M13=\"8\",\"팔십\",IF(M13=\"9\",\"구십\",\"\"))))","v":""},null,""]
["시공, 감독 및  검사에 관하여 하자  발견시는 하자담보기간 전후를 막론하고 실액변상 ",{"$nulls":10},"일",{"$f":"IF(RIGHT(L2,1)=\"\",\"빵\",MID((RIGHT(L2,1)),1,1))","v":"0"},{"$f":"IF(M14=\"1\",\"일\",IF(M14=\"2\",\"이\",IF(M14=\"3\",\"삼\",IF(M14=\"4\",\"사\",IF(M14=\"5\",\"오\",\"\")))))","v":""},{"$f":"IF(M14=\"6\",\"육\",IF(M14=\"7\",\"칠\",IF(M14=\"8\",\"팔\",IF(M14=\"9\",\"구\",\"\"))))","v":""},null,""]
["또는 재시공할  것을 서약하고 이에 용역검사원을 제출합니다.",{"$nulls":13},5]
[]
[null,null,{"$f":"C10","v":"   년    월    일"}]
[]
["주      소 :"]
["상      호 :"]
["전화번호 :",{"$nulls":11},{"$f":"IF(L$47<1000000000000,\"\",MID((RIGHT(L$47,13)),1,1))","v":""},{"$f":"IF(M21=\"1\",\"일조\",IF(M21=\"2\",\"이조\",IF(M21=\"3\",\"삼조\",IF(M21=\"4\",\"사조\",IF(M21=\"5\",\"오조\",\"\")))))","v":""},{"$f":"IF(M21=\"6\",\"육조\",IF(M21=\"7\",\"칠조\",IF(M21=\"8\",\"팔조\",IF(M21=\"9\",\"구조\",\"\"))))","v":""},null,{"$f":"(N21&O21&P21)","v":""}]
["대      표 :",null,null,"(인)",{"$nulls":8},{"$f":"IF(L$47<100000000000,\"\",MID((RIGHT(L$47,12)),1,1))","v":""},{"$f":"IF(M22=\"1\",\"일천\",IF(M22=\"2\",\"이천\",IF(M22=\"3\",\"삼천\",IF(M22=\"4\",\"사천\",IF(M22=\"5\",\"오천\",\"\")))))","v":""},{"$f":"IF(M22=\"6\",\"육천\",IF(M22=\"7\",\"칠천\",IF(M22=\"8\",\"팔천\",IF(M22=\"9\",\"구천\",\"\"))))","v":""}]
[]
[{"$nulls":12},{"$f":"IF(L$47<10000000000,\"\",MID((RIGHT(L$47,11)),1,1))","v":""},{"$f":"IF(M24=\"1\",\"일백\",IF(M24=\"2\",\"이백\",IF(M24=\"3\",\"삼백\",IF(M24=\"4\",\"사백\",IF(M24=\"5\",\"오백\",\"\")))))","v":""},{"$f":"IF(M24=\"6\",\"육백\",IF(M24=\"7\",\"칠백\",IF(M24=\"8\",\"팔백\",IF(M24=\"9\",\"구백\",\"\"))))","v":""},null,{"$f":"(N24&O24&P24)","v":""}]
["구미도시공사 재무관 귀하"]

{"sheet":"완료계","index":1,"n_rows":23,"n_cols":18,"rows_kept":23,"merged":[[1,0,1,10],[1,11,1,16],[2,11,2,16],[3,0,3,1],[3,2,3,10],[4,0,4,1],[4,2,4,4],[4,5,4,10],[5,0,5,1],[5,2,5,6],[6,0,6,1],[6,2,6,6],[7,0,7,1],[7,2,7,6],[8,2,8,6],[10,0,10,10],[13,0,13,10],[15,1,15,10],[16,1,16,8],[17,1,17,5],[18,1,18,2],[21,0,21,10]]}
["[ 별첨 13 ]"]
[" 완    료    계",{"$nulls":10},{"$f":"C5","v":{"v":0,"d":"₩0"}}]
[{"$nulls":11},{"$f":"(\"일금\"&#REF!&#REF!&#REF!&Q4&Q5&Q6&Q7&Q8&Q10&Q11&Q13&#REF!&Q14&Q15&\"원\")","v":{"$error":"#REF!"}}]
["1. 계   약   명 : ",{"$nulls":10},"십억",{"$f":"IF(L$2<1000000000,\"\",MID((RIGHT(L$2,10)),1,1))","v":""},{"$f":"IF(M4=\"1\",\"일십\",IF(M4=\"2\",\"이십\",IF(M4=\"3\",\"삼십\",IF(M4=\"4\",\"사십\",IF(M4=\"5\",\"오십\",\"\")))))","v":""},{"$f":"IF(M4=\"6\",\"육십\",IF(M4=\"7\",\"칠십\",IF(M4=\"8\",\"팔십\",IF(M4=\"9\",\"구십\",\"\"))))","v":""},{"$f":"IF(AND(NOT(M4=\"0\"),M5=\"0\"),\"억\",\"\")","v":""},{"$f":"(N4&O4&P4)","v":""}]
["2. 계 약 금 액 : ",null,0,null,null,{"$f":"\"(금\"&NUMBERSTRING(C5,1)&\"원)\"","v":"(금영원)"},{"$nulls":6},"억",{"$f":"IF(M$2<100000000,\"\",MID((RIGHT(M$2,9)),1,1))","v":""},{"$f":"IF(N5=\"1\",\"일억\",IF(N5=\"2\",\"이억\",IF(N5=\"3\",\"삼억\",IF(N5=\"4\",\"사억\",IF(N5=\"5\",\"오억\",\"\")))))","v":""},{"$f":"IF(N5=\"6\",\"육억\",IF(N5=\"7\",\"칠억\",IF(N5=\"8\",\"팔억\",IF(N5=\"9\",\"구억\",\"\"))))","v":""},null,{"$f":"(O5&P5&Q5)","v":""}]
["3. 계 약 일 자 :",null,"   년    월    일",{"$nulls":8},"천만",{"$f":"IF(L$2<10000000,\"\",MID((RIGHT(L$2,8)),1,1))","v":""},{"$f":"IF(M6=\"1\",\"일천\",IF(M6=\"2\",\"이천\",IF(M6=\"3\",\"삼천\",IF(M6=\"4\",\"사천\",IF(M6=\"5\",\"오천\",\"\")))))","v":""},{"$f":"IF(M6=\"6\",\"육천\",IF(M6=\"7\",\"칠천\",IF(M6=\"8\",\"팔천\",IF(M6=\"9\",\"구천\",\"\"))))","v":""},{"$f":"IF(AND(NOT(M6=\"0\"),M7=\"0\",M8=\"0\",M10=\"0\"),\"만\",\"\")","v":""},""]
["4. 착 수 일 자 : ",null,"   년    월    일",{"$nulls":8},"백만",{"$f":"IF(L2<1000000,\"\",MID((RIGHT(L2,7)),1,1))","v":""},{"$f":"IF(M7=\"1\",\"일백\",IF(M7=\"2\",\"이백\",IF(M7=\"3\",\"삼백\",IF(M7=\"4\",\"사백\",IF(M7=\"5\",\"오백\",\"\")))))","v":""},{"$f":"IF(M7=\"6\",\"육백\",IF(M7=\"7\",\"칠백\",IF(M7=\"8\",\"팔백\",IF(M7=\"9\",\"구백\",\"\"))))","v":""},{"$f":"IF(AND(NOT(M7=\"0\"),M8=\"0\",M10=\"0\"),\"만\",\"\")","v":""},""]
["5. 완료에정일 :",null,"   년    월    일",{"$nulls":8},"십만",{"$f":"IF(L2<100000,\"\",MID((RIGHT(L2,6)),1,1))","v":""},{"$f":"IF(M8=\"1\",\"일십\",IF(M8=\"2\",\"이십\",IF(M8=\"3\",\"삼십\",IF(M8=\"4\",\"사십\",IF(M8=\"5\",\"오십\",\"\")))))","v":""},{"$f":"IF(M8=\"6\",\"육십\",IF(M8=\"7\",\"칠십\",IF(M8=\"8\",\"팔십\",IF(M8=\"9\",\"구십\",\"\"))))","v":""},{"$f":"IF(AND(NOT(M8=\"0\"),M10=\"0\"),\"만\",\"\")","v":""},""]
["6. 완 료 일 자 :",null,"   년    월    일"]
[{"$nulls":11},"만",{"$f":"IF(L2<10000,\"\",MID((RIGHT(L2,5)),1,1))","v":""},{"$f":"IF(M10=\"1\",\"일만\",IF(M10=\"2\",\"이만\",IF(M10=\"3\",\"삼만\",IF(M10=\"4\",\"사만\",IF(M10=\"5\",\"오만\",\"\")))))","v":""},{"$f":"IF(M10=\"6\",\"육만\",IF(M10=\"7\",\"칠만\",IF(M10=\"8\",\"팔만\",IF(M10=\"9\",\"구만\",\"\"))))","v":""},null,""]
["상기 수선(용역)을 필하였기에 완료계를 제출합니다.",{"$nulls":10},"천",{"$f":"IF(L2<1000,\"\",MID((RIGHT(L2,4)),1,1))","v":""},{"$f":"IF(M11=\"1\",\"일천\",IF(M11=\"2\",\"이천\",IF(M11=\"3\",\"삼천\",IF(M11=\"4\",\"사천\",IF(M11=\"5\",\"오천\",\"\")))))","v":""},5,null,"5"]
[]
[{"$nulls":11},"백",{"$f":"IF(L2<1000,\"\",MID((RIGHT(L2,3)),1,1))","v":""},{"$f":"IF(M13=\"1\",\"일백\",IF(M13=\"2\",\"이백\",IF(M13=\"3\",\"삼백\",IF(M13=\"4\",\"사백\",IF(M13=\"5\",\"오백\",\"\")))))","v":""},{"$f":"IF(M13=\"6\",\"육백\",IF(M13=\"7\",\"칠백\",IF(M13=\"8\",\"팔백\",IF(M13=\"9\",\"구백\",\"\"))))","v":""},null,""]
[{"$f":"C9","v":"   년    월    일"},{"$nulls":11},"일",{"$f":"IF(RIGHT(L2,1)=\"\",\"빵\",MID((RIGHT(L2,1)),1,1))","v":"0"},{"$f":"IF(N14=\"1\",\"일\",IF(N14=\"2\",\"이\",IF(N14=\"3\",\"삼\",IF(N14=\"4\",\"사\",IF(N14=\"5\",\"오\",\"\")))))","v":""},{"$f":"IF(N14=\"6\",\"육\",IF(N14=\"7\",\"칠\",IF(N14=\"8\",\"팔\",IF(N14=\"9\",\"구\",\"\"))))","v":""},{"$f":"(O14&P14)","v":""}]
[]
["주     소 :"]
["상     호 :"]
["전화번호 :",{"$nulls":12},{"$f":"IF(M$47<1000000000000,\"\",MID((RIGHT(M$47,13)),1,1))","v":""},{"$f":"IF(N18=\"1\",\"일조\",IF(N18=\"2\",\"이조\",IF(N18=\"3\",\"삼조\",IF(N18=\"4\",\"사조\",IF(N18=\"5\",\"오조\",\"\")))))","v":""},{"$f":"IF(N18=\"6\",\"육조\",IF(N18=\"7\",\"칠조\",IF(N18=\"8\",\"팔조\",IF(N18=\"9\",\"구조\",\"\"))))","v":""},null,{"$f":"(O18&P18&Q18)","v":""}]
["대     표 :",null,null,"(인)",{"$nulls":9},{"$f":"IF(M$47<100000000000,\"\",MID((RIGHT(M$47,12)),1,1))","v":""},{"$f":"IF(N19=\"1\",\"일천\",IF(N19=\"2\",\"이천\",IF(N19=\"3\",\"삼천\",IF(N19=\"4\",\"사천\",IF(N19=\"5\",\"오천\",\"\")))))","v":""},{"$f":"IF(N19=\"6\",\"육천\",IF(N19=\"7\",\"칠천\",IF(N19=\"8\",\"팔천\",IF(N19=\"9\",\"구천\",\"\"))))","v":""}]
[null,null,"   "]
[{"$nulls":13},{"$f":"IF(M$47<1000000000000,\"\",MID((RIGHT(M$47,13)),1,1))","v":""},{"$f":"IF(N21=\"1\",\"일조\",IF(N21=\"2\",\"이조\",IF(N21=\"3\",\"삼조\",IF(N21=\"4\",\"사조\",IF(N21=\"5\",\"오조\",\"\")))))","v":""},{"$f":"IF(N21=\"6\",\"육조\",IF(N21=\"7\",\"칠조\",IF(N21=\"8\",\"팔조\",IF(N21=\"9\",\"구조\",\"\"))))","v":""},null,{"$f":"(O21&P21&Q21)","v":""}]
["구미도시공사 재무관 귀하",{"$nulls":12},{"$f":"IF(M$47<100000000000,\"\",MID((RIGHT(M$47,12)),1,1))","v":""},{"$f":"IF(N22=\"1\",\"일천\",IF(N22=\"2\",\"이천\",IF(N22=\"3\",\"삼천\",IF(N22=\"4\",\"사천\",IF(N22=\"5\",\"오천\",\"\")))))","v":""},{"$f":"IF(N22=\"6\",\"육천\",IF(N22=\"7\",\"칠천\",IF(N22=\"8\",\"팔천\",IF(N22=\"9\",\"구천\",\"\"))))","v":""}]
[{"$nulls":12},{"$f":"IF(L$46<10000000000,\"\",MID((RIGHT(L$46,11)),1,1))","v":""},{"$f":"IF(M23=\"1\",\"일백\",IF(M23=\"2\",\"이백\",IF(M23=\"3\",\"삼백\",IF(M23=\"4\",\"사백\",IF(M23=\"5\",\"오백\",\"\")))))","v":""},{"$f":"IF(M23=\"6\",\"육백\",IF(M23=\"7\",\"칠백\",IF(M23=\"8\",\"팔백\",IF(M23=\"9\",\"구백\",\"\"))))","v":""},null,{"$f":"(N23&O23&P23)","v":""}]